BEGIN:VCALENDAR
VERSION:2.0
PRODID:-//Visit Warwick - ECPv6.15.20//NONSGML v1.0//EN
CALSCALE:GREGORIAN
METHOD:PUBLISH
X-ORIGINAL-URL:https://www.visitwarwick.co.uk
X-WR-CALDESC:Events for Visit Warwick
REFRESH-INTERVAL;VALUE=DURATION:PT1H
X-Robots-Tag:noindex
X-PUBLISHED-TTL:PT1H
BEGIN:VTIMEZONE
TZID:UTC
BEGIN:STANDARD
TZOFFSETFROM:+0000
TZOFFSETTO:+0000
TZNAME:UTC
DTSTART:20230101T000000
END:STANDARD
END:VTIMEZONE
BEGIN:VEVENT
DTSTART;TZID=UTC:20240921T100000
DTEND;TZID=UTC:20240921T163000
DTSTAMP:20260421T090700
CREATED:20240722T143718Z
LAST-MODIFIED:20241105T113114Z
UID:12172-1726912800-1726936200@www.visitwarwick.co.uk
SUMMARY:Craft Fair
DESCRIPTION:FREE event \nCome along to see some beautiful original products for sale all lovingly handcrafted by local artists. \nThe Craft Fair will be held in the Visitor Information Centre during our normal opening hours – 10am to 4.30pm.
URL:https://www.visitwarwick.co.uk/event/craft-fair/
LOCATION:Warwick Visitor Information Centre\, Court House\, Jury Street\, Warwick\, CV34 4EW
CATEGORIES:Court House Events
ATTACH;FMTTYPE=image/jpeg:https://www.visitwarwick.co.uk/wp-content/uploads/2024/07/pexels-suzyhazelwood-1266139-scaled-e1721658896295.jpg
END:VEVENT
END:VCALENDAR